BEGIN:VCALENDAR
VERSION:2.0
BEGIN:VEVENT
URL:https://mail.vosvosturkiye.com/~vosvos/vos-topluluk/etkinlikler/viewevent/9-13-ordu-vosvos-festivali 
DTSTART:20150718T090000
DTEND:20150725T160000
SUMMARY:13.Ordu Vosvos Festivali
DESCRIPTION:İlk olarak Fikret Türkyılmaz’ın Belediye Başkanlığı döneminde 1995 yılında Ordu'lu vosvos aşığı Enis AYAR'ın limuzin vosvos ile başlayan ve bugüne kadar 12 kez düzenlenen Vosvos Şenliği, uzun bir aradan sonra bu yıl Ordu Büyükşehir Belediyesi’nin desteği ile yeniden başlıyor.


<div style="display:none"> 
http://www.fullaccessent.com/ad-category/diyarbakir-escort

https://fullaccessent.xyz/ad-category/diyarbakir-escort

http://www.arkadasyayin.com/ad-category/mardin-escort

http://egemodel.com/ad-category/didim-escort

https://egemodel.com/ad-category/mugla-escort

http://www.federicoescort.com/ad-category/istanbul-escort

http://www.batmanreklam.live/ad-category/diyarbakir-escort

http://www.elitmasajsalonu.xyz/ad-category/masaj-salonu

http://companionistanbul.com/ad-category/halkali-escort

http://denizlicekilis.xyz/ad-category/diyarbakir-escort 

http://www.cekilisimizvar.com/ad-category/masaj-salonu

http://www.diyarbakiremlak.world/ad-category/diyarbakir-escort

http://www.denizli20.net/ad-category/bursa-escort

http://www.denizli20.net/ad-category/gorukle-escort

http://hosarkadas.com/ad-category/afyon-escort

http://hosarkadas.com/ad-category/afyonkarahisar-escort

http://arkadasyayin.xyz/ad-category/kayseri-escort

http://federicoescort.xyz/ad-category/canakkale-escort

http://hosarkadas.xyz/ad-category/duzce-escort

http://companionistanbul.xyz/ad-category/antep-escort

http://companionistanbul.xyz/ad-category/gaziantep-escort

http://www.denizliwebtasarim.online/category/denizli-web-tasarim

http://www.denizliwebtasarim.online/category/denizli-web-site

http://www.denizliwebtasarim.online/category/web-tasarim
</div>
LOCATION:Ordu
END:VEVENT
END:VCALENDAR