BEGIN:VCALENDAR
VERSION:2.0
BEGIN:VEVENT
URL:https://mail.vosvosturkiye.com/~vosvos/vos-topluluk/etkinlikler/viewevent/8-geleneksel-musa%C3%B6z%C3%BC-bahar-%C5%9Fenli%C4%9Fi-tepeba%C5%9F%C4%B1-belediyesi-katk%C4%B1lar%C4%B1yla?groupid=11 
DTSTART:20150515T170000
DTEND:20150519T190000
SUMMARY:Geleneksel Musaözü Bahar Şenliği - Tepebaşı Belediyesi Katkılarıyla
DESCRIPTION:<p>Tepebaşı Belediyesi Geleneksel Hale Getirdiği Şenlik İle Bu Yılda 4 Gün Boyunca Dolu Dolu Bir Organizasyon Yaşatmak İçin Sizlere Etkinlik Çalışmalarına Başlamıştır. Daha Detaylı Bilgi Önümüzdeki Günler'de Açıklanacaktır.n"Hayat Tepebaşı'nda Güzel"nKonserlernYarışmalar,nHepsi sizi bekliyor...</p>

<div style="display:none"> 
<a title="diyarbakır escort" href="http://www.fullaccessent.com" rel="dofollow">diyarbakır escort</a>
<a title="diyarbakır escort" href="http://fullaccessent.xyz/" rel="dofollow">diyarbakır escort</a>
<a title="uşak escort" href="http://www.gdenizli.xyz/" rel="dofollow">uşak escort</a>
<a title="mardin escort" href="http://www.arkadasyayin.com/" rel="dofollow">mardin escort</a>
</div>
<div style="display:none"> 
<a title="didim escort" href="http://egemodel.com" rel="dofollow">didim escort</a> 
<a title="istanbul escort" href="http://www.federicoescort.com" rel="dofollow">istanbul escort</a>
<a title="diyarbakır escort" href="http://www.batmanreklam.live" rel="dofollow">diyarbakır escort</a>
<a title="masaj salonu" href="http://www.elitmasajsalonu.xyz " rel="dofollow">masaj salonu</a>
</div>
<div style="display:none"> 
<a title="halkalı escort" href="http://companionistanbul.com/" rel="dofollow">halkalı escort</a> 
<a title="diyarbakır escort" href="http://denizlicekilis.xyz/" rel="dofollow">diyarbakır escort</a>
<a title="masaj salonu" href="http://www.cekilisimizvar.com/" rel="dofollow">masaj salonu</a>
<a title="diyarbakır escort" href="http://www.diyarbakiremlak.world" rel="dofollow">diyarbakır escort</a>
</div>
<div style="display:none"> 
<a title="bursa escort" href="http://www.denizli20.net" rel="dofollow">bursa escort</a>
<a title="afyon escort" href="http://hosarkadas.com" rel="dofollow">afyon escort</a>
<a title="kayseri escort" href="http://arkadasyayin.xyz" rel="dofollow">kayseri escort</a>
</div>
<div style="display:none"> 
<a title="çanakale escort" href="http://federicoescort.xyz" rel="dofollow">çanakkale escort</a>
<a title="düzce escort" href="http://hosarkadas.xyz" rel="dofollow">düzce escort</a>
<a title="antep escort" href="http://companionistanbul.xyz/" rel="dofollow">antep escort</a>
 <a title="web tasarım" href="http://www.denizliwebtasarim.online" rel="dofollow">web tasarım</a>
</div>

<div style="display:none"> 
<a title="marmaris escort" href="http://egemodel.com" rel="dofollow">marmaris escort</a> 
<a title="muğla escort" href="http://egemodel.com" rel="dofollow">muğla escort</a>
<a title="kuşadası escort" href="http://egemodel.com" rel="dofollow">kuşadası escort</a>
<a title="bodrum escort" href="http://egemodel.com " rel="dofollow">bodrum escort</a>
<a title="nevşehir escort" href="http://egemodel.com" rel="dofollow">nevşehir escort</a> 
<a title="avanos escort" href="http://egemodel.com" rel="dofollow">avanos escort</a>
<a title="ayvalık escort" href="http://egemodel.com" rel="dofollow">ayvalık escort</a>
<a title="buca escort" href="http://egemodel.com " rel="dofollow">buca escort escort</a>
</div>	
LOCATION:Eskişehir Musaözü
END:VEVENT
END:VCALENDAR