BEGIN:VCALENDAR
VERSION:2.0
BEGIN:VEVENT
URL:https://mail.vosvosturkiye.com/~vosvos/vos-topluluk/etkinlikler/viewevent/7-4-vostalya-yaz-%C5%9Fenli%C4%9Fi-85-etkinlik?groupid=1 
DTSTART:20130627T060000
DTEND:20130630T130000
SUMMARY:4.VosTALYA Yaz Şenliği (85.Etkinlik)
DESCRIPTION:Sevgili vosvos severler, sesinize ses verdik ve istekleriniz doğrultusunda 4.Yaz Şenliğimizi Antalya’da gerçekleştiriyoruz. Kamp malzemelerinizle beraber, koruyucu kremlerinizi, gözlüklerinizi ve şapkalarınızı mutlaka getirin. Sıcak bir Antalya yazı bizi bekliyor. Kum, deniz, güneş ve elbette sizi özleyen vosdostlar. Bu yıl 4.sünü gerçekleştireceğimiz etkinlikte amacımız birlikte eğlenmek, çok eğlenmek ve mutluluk üretmek. :)
Hazır mıyız? :)

Program\;
27 Haziran Perşembe/ Şehir dışından gelen konukların belirlenmiş alanlara yerleşmesi.Serbest gün
28 Haziran Cuma / Gündüz serbest zaman.
                              Akşam 19.00 VosTALYA Kampına hoş geldiniz!                         Tanışma, kaynaşma, müzik, eğlence, sohbet....
29 Haziran Cumartesi /  Gündüz, Tavla Turnuvası,Deniz keyfi 
                                       Akşam sahilde kamp ateşi, dans,müzik.
30 Haziran Pazar/ Kahvaltı sonrası toplanma ve yeniden buluşmak üzere vedalaşma.

Yemece – İçmece
Dido Beach tarafından kamp misafirlerine özel sunulan fiyatlamalar şu şekilde\;
Kahvaltı\; 10 çeşit, sınırsız çay  7 lira 
(Cumartesi – Pazar kahvaltıları ikram)
Köfte – Ayran 10 lira
Biraseverler için Efes Standı açılacak.
Diğer İhtiyaçlar\;
Her çadır için bir şemsiye tahsis edilecek.
Elektrik, su, duş, tuvalet ücretsiz olacak.

Lütfen Dikkat!!!
Fotoğraf makinalarınızı unutmayınız. 
Kamp alanı ile ilgili her türlü sorun ya da öneri için "VosTALYA Çözüm ve İletişim Masası" ile bağlantı kurunuz.

Etkinlik Sorumluları 

Mehmet Budak    532 352 00 04 
Zeki Kavlak          532 685 82 81
Mehmet Çor        532 453 83 07
Gönül Çakır          532 672 09 58
Nilsu Güleç           532 318 36 96
Berna Evren        506 598 17 55 

Sevgi ve Saygılarmızla
VosTALYA Yönetim Kurulu

https://www.facebook.com/events/465257043549580/
LOCATION:Dido Beach Lara
END:VEVENT
END:VCALENDAR