BEGIN:VCALENDAR
VERSION:2.0
BEGIN:VEVENT
URL:https://mail.vosvosturkiye.com/~vosvos/vos-topluluk/etkinlikler/viewevent/6-eski%C5%9Fehir-vosba%C4%9Fa-derne%C4%9Fi-8-geleneksel-yaz-kamp%C4%B1 
DTSTART:20120831T120000
DTEND:20120902T000000
SUMMARY:Eskişehir Vosbağa Derneği 8.Geleneksel Yaz Kampı 
DESCRIPTION:<table class="uiGrid mvm" style="border: 0px; border-collapse: collapse; border-spacing: 0px; margin-top: 10px; margin-bottom: 10px; color: #333333; font-family: 'lucida grande', tahoma, verdana, arial, sans-serif; font-size: 11px; line-height: 14px; text-align: left;" cellspacing="0" cellpadding="0">
<tbody>
<tr>
<td class="vTop" style="font-size: 11px; vertical-align: top;"> </td>
<td class="vTop" style="font-size: 11px; vertical-align: top;"><span>Eskişehir Vosbağa Derneği 8. Geleneksel Yaz Kampı !<br /><br />31 Ağustos 1-2 Eylül 2012 tarihlerinde Sakarya Nehrinin doğduğu muhteşem manzara ve tesislere sahip olan Çifteler İlçesi Sakarbaşında ki Kampımıza tüm dostlarımızı bekliyoruz.<br /><br />Sakarbaşı , havuzlu otelinden,<br /><span class="text_exposed_show" style="display: inline;">hastanesine ve karakoluna her türlü ihtiyaca karşılık verebilecek bir kamp alanı. <br /><br />Etkinlik ,çeşitli yarışmalar,deniz bisikletleri,Sakarya nehrinin kaynak yerindeki doğal havuzda yüzme,voleybol gibi siz ne yapmak istiyorsanız onu içermekte.<br /><br />Tüm dostlarımızı bekliyoruz...<br /><br />Her türlü sorunuz için <br />Emre BÜLBÜL 0505 308 0039 0536 569 54 88</span></span></td>
</tr>
</tbody>
</table>
LOCATION:Eskişehir Çifteler Sakarbaşı 
END:VEVENT
END:VCALENDAR