BEGIN:VCALENDAR
VERSION:2.0
BEGIN:VEVENT
URL:https://mail.vosvosturkiye.com/~vosvos/vos-topluluk/etkinlikler/viewevent/5-vostalya07-3-yaz-kamp%C4%B1 
DTSTART:20120713T180000
DTEND:20120715T180000
SUMMARY:Vostalya07 3.Yaz Kampı
DESCRIPTION:<p><span style="line-height: 14px; text-align: left; font-family: tahoma, arial, helvetica, sans-serif; font-size: 10pt; color: #000000;">Artık geri sayım başladı vosdostlar :)</span><br style="color: #333333; font-family: 'lucida grande', tahoma, verdana, arial, sans-serif; line-height: 14px; text-align: left;" /><span style="line-height: 14px; text-align: left; font-family: tahoma, arial, helvetica, sans-serif; font-size: 10pt; color: #000000;">VosTALYA severlerin ve takipçilerinin kavuşma günü 13 Temmuz 2012.</span><br style="color: #333333; font-family: 'lucida grande', tahoma, verdana, arial, sans-serif; line-height: 14px; text-align: left;" /><span style="font-family: tahoma, arial, helvetica, sans-serif; font-size: 10pt; color: #000000;"><span style="line-height: 14px; text-align: left;">Cuma günü başlayıp, 15 Temmuz Pazar gününe kadar süre</span><span class="text_exposed_show" style="display: inline; line-height: 14px; text-align: left;">cek mutluluk diyarından içeri girmeye hazır mısınız?<br />Antalya’nın sıcak ikliminden uzak, göl manzarası eşliğinde daha da önemlisi sevdiklerimizle, sizlerle bir arada olmanın eşsiz keyfi.<br />Çadırlarınızı kapıp, alabildiğiniz kadar sevgi ve neşeyi bagajınıza yükleyin. Bir de vosvoslarınızın kulağına fısıldayın; <br />VoSTALYA yolculuğu başlıyooor....<br />Ortak zamanları özel ve anlamlı kılan şeyin, mekanlardan çok, o mekanı paylaşan kişiler olduğunu düşünüyor, sevenlerimizi, gönlü bizimle olan vosvos sevdalılarını Salda Kampımıza bekliyoruz.<br />KPSS’ye girecek vosdostlarımız, sizleri de aramızda görmek için sabırsızlanıyoruz.Başarı ve şans sizden yana olsun.</span></span></p>
<p><span style="font-family: tahoma, arial, helvetica, sans-serif; font-size: 10pt; color: #000000;">Sevgi ve Özlemle…</span><br /><span style="font-family: tahoma, arial, helvetica, sans-serif; font-size: 10pt; color: #000000;">VosTALYA’07 Yönetim Kurulu 2012</span></p>
<p><span style="font-family: tahoma, arial, helvetica, sans-serif; font-size: 10pt; color: #000000;">Antalya için hareket planı;</span><br /><span style="font-family: tahoma, arial, helvetica, sans-serif; font-size: 10pt; color: #000000;">Buluşma Yeri; Eski Adliye Önü</span><br /><span style="font-family: tahoma, arial, helvetica, sans-serif; font-size: 10pt; color: #000000;">Buluşma Saati; 07.00</span><br /><span style="font-family: tahoma, arial, helvetica, sans-serif; font-size: 10pt; color: #000000;">Hareket Saati; 07.30</span><br /><span style="font-family: tahoma, arial, helvetica, sans-serif; font-size: 10pt; color: #000000;">Varış Saati ; 12.00</span><br /><span style="font-family: tahoma, arial, helvetica, sans-serif; font-size: 10pt; color: #000000;">Kamp süresince kahvaltı ve cumartesi akşam yemeği Yeşilova Belediyesi tarafından karşılanacaktır.</span></p>
<p><strong><span style="font-size: 10pt; font-family: tahoma, arial, helvetica, sans-serif;">İletişim için;<br /><span style="line-height: 14px; text-align: left; white-space: pre-wrap; color: #000000;">Zeki Kavlak 0532 685 8281</span></span></strong><span style="font-family: tahoma, arial, helvetica, sans-serif; font-size: 10pt; color: #000000;"><br /></span></p>
LOCATION:Salda Gölü
END:VEVENT
END:VCALENDAR