BEGIN:VCALENDAR
VERSION:2.0
BEGIN:VEVENT
URL:https://mail.vosvosturkiye.com/~vosvos/vos-topluluk/etkinlikler/viewevent/3-1-%C3%A7orum-kargi-vosvos-festi%CC%87vali%CC%87 
DTSTART:20120615T150000
DTEND:20120617T180000
SUMMARY:1.ÇORUM KARGI VOSVOS FESTİVALİ
DESCRIPTION:<p><span style="color: #333333; font-family: 'lucida grande', tahoma, verdana, arial, sans-serif; line-height: 14px; text-align: left;">15-16-17 Haziran 2012 Tarihlerinde,Çorumun Kargı İlçesinde Kargı Kaykamlığının Düzenlemiş Olduğu Festivalde Görülmeye Değer Yaylalarımızda VosDostlarımızla Buluşuyoruz.</span><br style="color: #333333; font-family: 'lucida grande', tahoma, verdana, arial, sans-serif; line-height: 14px; text-align: left;" /><span style="color: #333333; font-family: 'lucida grande', tahoma, verdana, arial, sans-serif; line-height: 14px; text-align: left;">1.sini Düzenleyeceğimiz Çorum Kargı Vosvos Festivalinde Arkadaşlığı, Dostluğu Ve Vosvos Kardeşliği </span><span class="text_exposed_show" style="display: inline; color: #333333; font-family: 'lucida grande', tahoma, verdana, arial, sans-serif; line-height: 14px; text-align: left;">En Güzel Şekilde Yaşamaya Davet Ediyoruz.Kargı Kaymakamlığına Desteklerinden Dolayı Teşekkür Ederiz .<br /><br />--Kamp Alanına Katılım Cuma Akşamı Sıcak İkramlarla Başlayacak...(çay,çorba)<br />--Düzenlemiş Olduğumuz Festival Boyunca; Sabah Kahvaltısı ,Öğle yemeği Kaymakamlık Tarafından Karşılanacaktır.--Katılaca<span class="word_break" style="display: inline-block;"></span>k Misafirlerimiz İçin 150 TL Yakıt Desteği Sağlanacaktır.(VosVos Ve Bus Sahibi VosDostlarımıza Ufak Bir Jesttir) <br />--Kamp Süresince Kaymakamlık Tarafından Düzenlenen Canlı Müzik Dinletisi <br />--Gelecek Misafirlere Hazırlanan Uçurtmalarla ,Uçurtma Şenliği.<br />--Dev Sinevizyon İle Açık Hava Sineması,<br />--"Evde Bir Ses Olsun" Projesine Katkıda Bulunmak için VosVoslarımızla Yaşlılara Merkezde VosVos Turu Düzenlenmesi. (<a href="http://evdebirsesolsun.org/" target="_blank" rel="nofollow nofollow" style="cursor: pointer; color: #3b5998; text-decoration: none;">http://<span class="word_break" style="display: inline-block;"></span>evdebirsesolsun.org/</a>)<br />--Yöresel Yemeğimiz Olan Keşkeğin, Kamp Alanına Kurulacak Kazanlarla VosDostlarımızında Katılımı İle Keşkek Yapımı.<br />--Çeşitli Aktivitelerle Hafta Sonunu Dolu Dolu Geçirebileceğiniz 1.Çorum Kargı VosVos Festivaline Tüm VosDostlarımızı Bekliyoruz.<br /><br /><br />Not:Gelecek VosDostlarımızın En Geç 10,06,2012 Tarihine Kadar VosVoslarınızın Bus larınızın Plaka Numralarını Bildirilmesini Önemle Rica Ederiz.<br /><br />KATILIM FORMU :<br /><a href="http://www.facebook.com/l.php?u=https%3A%2F%2Fdocs.google.com%2Fspreadsheet%2Fviewform%3Fformkey%3DdEU2NU1venpHSjZzbzZETVZqbTV1emc6MQ%26fb_source%3Dmessage&h=cAQE_Ukyx" target="_blank">https://docs.google.com/spreadsheet/<span class="word_break" style="display: inline-block;"></span>viewform?formkey=dEU2NU1ven<span class="word_break" style="display: inline-block;"></span>pHSjZzbzZETVZqbTV1emc6MQ&f<span class="word_break" style="display: inline-block;"></span>b_source=message</a><br /><br />İrtibat Numaraları :<br /><br />Yasir Güleç 0542 818 52 00 <br />Selçuk Keçecioğlu 0532 782 61 30<br />Mehmet Yaşar 0507 796 30 46 (Ankara)</span></p>
LOCATION:Çorum, Kargı
END:VEVENT
END:VCALENDAR