BEGIN:VCALENDAR
VERSION:2.0
BEGIN:VEVENT
URL:https://mail.vosvosturkiye.com/~vosvos/vos-topluluk/etkinlikler/viewevent/1-%C3%A7i%C3%A7ekli-k%C3%B6y-kahvalt%C4%B1 
DTSTART:20120226T100000
DTEND:20120226T130000
SUMMARY:Çiçekli Köy Kahvaltı
DESCRIPTION:<table class="uiGrid mvm" style="border-style: initial; border-color: initial; border-image: initial; border-collapse: collapse; -webkit-border-horizontal-spacing: 0px; -webkit-border-vertical-spacing: 0px; margin-top: 10px; margin-bottom: 10px; color: #333333; font-family: 'lucida grande', tahoma, verdana, arial, sans-serif; font-size: 11px; line-height: 14px; text-align: left; border-width: 0px;" cellspacing="0" cellpadding="0">
<tbody>
<tr>
<td class="vTop" style="font-size: 11px; vertical-align: top;">
<div id="id_4f4954f90c38d7789212885" class="text_exposed_root text_exposed" style="display: inline;"><br class="Apple-interchange-newline" />Uzun zamandan sonra bir kahvaltı etkinliğinde karar kıldık. 26 Şubat Pazar Günü Çieçekli köyde açık büfe kahvaltı için saat 10:00 da haraketle Bayraklı Adliyeden konvoy ile Mekana geçeceğiz. </div>
<div class="text_exposed_root text_exposed" style="display: inline;"> </div>
<div class="text_exposed_root text_exposed" style="display: inline;">Kahvaltı A<span class="text_exposed_show" style="display: inline;">çık Büfe olup 12TL.<br /><br />Katılıyorum işaretleyen herkesi kahvaltıya katılacak olarak sayıyorum. Kahvaltı mekanı ile de buna göre rezervasyon yapacağım.<br /></span></div>
</td>
</tr>
</tbody>
</table>
LOCATION:İzmir Çiçekliköy
END:VEVENT
END:VCALENDAR